-0.00000000000000
-0.09000000000000
-0.09000000000000
0.00000000000000
687099.67429001839000
233671.17704086981000
