0.00000000000000
0.09000000000000
0.09000000000000
-0.00000000000000
685334.32570998161000
239700.82295913019000
