0.00000000000000
0.09000000000000
0.09000000000000
-0.00000000000000
685326.32570998161000
240375.82295913019000
