0.00000000000000
0.09000000000000
0.09000000000000
-0.00000000000000
685342.32570998161000
246454.82295913019000
