0.00000000000000
0.09000000000000
0.09000000000000
-0.00000000000000
684254.32570998161000
229850.82295913019000
