0.00000000000000
0.09000000000000
0.09000000000000
-0.00000000000000
684238.32570998161000
236351.82295913019000
