-0.00000000000000
-0.09000000000000
-0.09000000000000
0.00000000000000
684895.67429001839000
238398.17704086981000
