-0.00000000000000
-0.09000000000000
-0.09000000000000
0.00000000000000
684861.67429001839000
241183.17704086981000
