-0.00000000000000
-0.09000000000000
-0.09000000000000
0.00000000000000
684865.67429001839000
242403.17704086981000
