-0.00000000000000
-0.09000000000000
-0.09000000000000
0.00000000000000
684890.67429001839000
247865.17704086981000
