-0.00000000000000
-0.09000000000000
-0.09000000000000
0.00000000000000
684900.67429001839000
250719.17704086981000
