0.00000000000000
0.09000000000000
0.09000000000000
-0.00000000000000
682086.32570998161000
232228.82295913019000
