0.00000000000000
0.09000000000000
0.09000000000000
-0.00000000000000
682072.32570998161000
234307.82295913019000
