0.00000000000000
0.09000000000000
0.09000000000000
-0.00000000000000
682046.32570998161000
241320.82295913019000
