0.00000000000000
0.09000000000000
0.09000000000000
-0.00000000000000
682042.32570998161000
242044.82295913019000
