0.00000000000000
0.09000000000000
0.09000000000000
-0.00000000000000
682080.32570998161000
250682.82295913019000
