0.00000000000000
0.09000000000000
0.09000000000000
-0.00000000000000
680977.32570998161000
229623.82295913019000
