0.00000000000000
0.09000000000000
0.09000000000000
-0.00000000000000
680963.32570998161000
230889.82295913019000
