0.00000000000000
0.09000000000000
0.09000000000000
-0.00000000000000
680983.32570998161000
233413.82295913019000
