-0.00000000000000
-0.09000000000000
-0.09000000000000
0.00000000000000
682709.67429001839000
236971.17704086981000
