-0.00000000000000
-0.09000000000000
-0.09000000000000
0.00000000000000
682707.67429001839000
239555.17704086981000
