-0.00000000000000
-0.09000000000000
-0.09000000000000
0.00000000000000
682710.67429001839000
252832.17704086981000
