-0.00000000000000
-0.09000000000000
-0.09000000000000
0.00000000000000
682718.67429001839000
254356.17704086981000
