0.00000000000000
0.09000000000000
0.09000000000000
-0.00000000000000
679857.32570998161000
235971.82295913019000
