0.00000000000000
0.09000000000000
0.09000000000000
-0.00000000000000
679860.32570998161000
239867.82295913019000
