-0.00000000000000
-0.09000000000000
-0.09000000000000
0.00000000000000
681596.67429001839000
248663.17704086981000
