-0.00000000000000
-0.09000000000000
-0.09000000000000
0.00000000000000
681627.67429001839000
254450.17704086981000
