-0.00000000000000
-0.09000000000000
-0.09000000000000
0.00000000000000
680508.67429001839000
239897.17704086981000
