-0.00000000000000
-0.09000000000000
-0.09000000000000
0.00000000000000
680490.67429001839000
245911.17704086981000
