-0.00000000000000
-0.09000000000000
-0.09000000000000
0.00000000000000
680494.67429001839000
246955.17704086981000
