0.00000000000000
0.09000000000000
0.09000000000000
-0.00000000000000
678779.32570998161000
250585.82295913019000
