-0.00000000000000
-0.09000000000000
-0.09000000000000
0.00000000000000
679443.67429001839000
231887.17704086981000
