-0.00000000000000
-0.09000000000000
-0.09000000000000
0.00000000000000
679456.67429001839000
234272.17704086981000
