-0.00000000000000
-0.09000000000000
-0.09000000000000
0.00000000000000
679441.67429001839000
235970.17704086981000
