0.00000000000000
0.09000000000000
0.09000000000000
-0.00000000000000
677699.32570998161000
238797.82295913019000
