-0.00000000000000
-0.09000000000000
-0.09000000000000
0.00000000000000
679453.67429001839000
252831.17704086981000
