0.00000000000000
0.09000000000000
0.09000000000000
-0.00000000000000
676591.32570998161000
229715.82295913019000
