0.00000000000000
0.09000000000000
0.09000000000000
-0.00000000000000
676611.32570998161000
231970.82295913019000
