0.00000000000000
0.09000000000000
0.09000000000000
-0.00000000000000
676595.32570998161000
245705.82295913019000
