0.00000000000000
0.09000000000000
0.09000000000000
-0.00000000000000
676615.32570998161000
248873.82295913019000
