0.00000000000000
0.09000000000000
0.09000000000000
-0.00000000000000
676619.32570998161000
252645.82295913019000
