-0.00000000000000
-0.09000000000000
-0.09000000000000
0.00000000000000
677236.67429001839000
232210.17704086981000
