-0.00000000000000
-0.09000000000000
-0.09000000000000
0.00000000000000
677240.67429001839000
232900.17704086981000
