-0.00000000000000
-0.09000000000000
-0.09000000000000
0.00000000000000
677224.67429001839000
247819.17704086981000
