-0.00000000000000
-0.09000000000000
-0.09000000000000
0.00000000000000
677256.67429001839000
253756.17704086981000
