0.00000000000000
0.09000000000000
0.09000000000000
-0.00000000000000
674380.32570998161000
245770.82295913019000
