-0.00000000000000
-0.09000000000000
-0.09000000000000
0.00000000000000
675007.67429001839000
244197.17704086981000
