-0.00000000000000
-0.09000000000000
-0.09000000000000
0.00000000000000
675035.67429001839000
249087.17704086981000
