0.00000000000000
0.09000000000000
0.09000000000000
-0.00000000000000
672190.32570998161000
233591.82295913019000
