0.00000000000000
0.09000000000000
0.09000000000000
-0.00000000000000
672180.32570998161000
245146.82295913019000
